BEGIN:VCALENDAR
VERSION:2.0
PRODID:-//Gizmo Brew Works - ECPv4.9.14//NONSGML v1.0//EN
CALSCALE:GREGORIAN
METHOD:PUBLISH
X-WR-CALNAME:Gizmo Brew Works
X-ORIGINAL-URL:https://gizmobrewworks.com
X-WR-CALDESC:Events for Gizmo Brew Works
BEGIN:VTIMEZONE
TZID:America/New_York
BEGIN:DAYLIGHT
TZOFFSETFROM:-0500
TZOFFSETTO:-0400
TZNAME:EDT
DTSTART:20200308T070000
END:DAYLIGHT
BEGIN:STANDARD
TZOFFSETFROM:-0400
TZOFFSETTO:-0500
TZNAME:EST
DTSTART:20201101T060000
END:STANDARD
END:VTIMEZONE
BEGIN:VEVENT
DTSTART;TZID=America/New_York:20200907T160000
DTEND;TZID=America/New_York:20200907T220000
DTSTAMP:20240316T005743
CREATED:20200903T150821Z
LAST-MODIFIED:20200903T151433Z
UID:19363-1599494400-1599516000@gizmobrewworks.com
SUMMARY:$3 Pint Night
DESCRIPTION:
URL:https://gizmobrewworks.com/event/3-pint-night/2020-09-07/
LOCATION:Raleigh Taproom\, 5907 Triangle Drive\, Raleigh\, NC\, 27617\, United States
CATEGORIES:Beer Specials
END:VEVENT
END:VCALENDAR