BEGIN:VCALENDAR
VERSION:2.0
PRODID:-//Gizmo Brew Works - ECPv4.9.14//NONSGML v1.0//EN
CALSCALE:GREGORIAN
METHOD:PUBLISH
X-WR-CALNAME:Gizmo Brew Works
X-ORIGINAL-URL:https://gizmobrewworks.com
X-WR-CALDESC:Events for Gizmo Brew Works
BEGIN:VTIMEZONE
TZID:America/New_York
BEGIN:DAYLIGHT
TZOFFSETFROM:-0500
TZOFFSETTO:-0400
TZNAME:EDT
DTSTART:20200308T070000
END:DAYLIGHT
BEGIN:STANDARD
TZOFFSETFROM:-0400
TZOFFSETTO:-0500
TZNAME:EST
DTSTART:20201101T060000
END:STANDARD
END:VTIMEZONE
BEGIN:VEVENT
DTSTART;VALUE=DATE:20200927
DTEND;VALUE=DATE:20200928
DTSTAMP:20240316T005509
CREATED:20200922T212149Z
LAST-MODIFIED:20200927T214903Z
UID:19961-1601164800-1601251199@gizmobrewworks.com
SUMMARY:Food Truck: Arepa House NC (3-7pm)
DESCRIPTION:Confrimed \n
URL:https://gizmobrewworks.com/event/food-truck-arepa-house-nc-3-7pm/
CATEGORIES:Food Truck
END:VEVENT
END:VCALENDAR