BEGIN:VCALENDAR
VERSION:2.0
PRODID:-//Gizmo Brew Works - ECPv4.9.14//NONSGML v1.0//EN
CALSCALE:GREGORIAN
METHOD:PUBLISH
X-WR-CALNAME:Gizmo Brew Works
X-ORIGINAL-URL:https://gizmobrewworks.com
X-WR-CALDESC:Events for Gizmo Brew Works
BEGIN:VTIMEZONE
TZID:America/New_York
BEGIN:DAYLIGHT
TZOFFSETFROM:-0500
TZOFFSETTO:-0400
TZNAME:EDT
DTSTART:20190310T070000
END:DAYLIGHT
BEGIN:STANDARD
TZOFFSETFROM:-0400
TZOFFSETTO:-0500
TZNAME:EST
DTSTART:20191103T060000
END:STANDARD
END:VTIMEZONE
BEGIN:VEVENT
DTSTART;VALUE=DATE:20191101
DTEND;VALUE=DATE:20191102
DTSTAMP:20240316T005834
CREATED:20190803T064222Z
LAST-MODIFIED:20191009T145151Z
UID:5279-1572566400-1572652799@gizmobrewworks.com
SUMMARY:Food Truck: Cilantro mexican Cuisine
DESCRIPTION:
URL:https://gizmobrewworks.com/event/food-truck-cilantro-mexican-cuisine-10/
CATEGORIES:Food Truck
END:VEVENT
END:VCALENDAR