BEGIN:VCALENDAR
VERSION:2.0
PRODID:-//Gizmo Brew Works - ECPv4.9.14//NONSGML v1.0//EN
CALSCALE:GREGORIAN
METHOD:PUBLISH
X-WR-CALNAME:Gizmo Brew Works
X-ORIGINAL-URL:https://gizmobrewworks.com
X-WR-CALDESC:Events for Gizmo Brew Works
BEGIN:VTIMEZONE
TZID:America/New_York
BEGIN:DAYLIGHT
TZOFFSETFROM:-0500
TZOFFSETTO:-0400
TZNAME:EDT
DTSTART:20190310T070000
END:DAYLIGHT
BEGIN:STANDARD
TZOFFSETFROM:-0400
TZOFFSETTO:-0500
TZNAME:EST
DTSTART:20191103T060000
END:STANDARD
END:VTIMEZONE
BEGIN:VEVENT
DTSTART;VALUE=DATE:20191227
DTEND;VALUE=DATE:20191228
DTSTAMP:20240316T004811
CREATED:20190928T141148Z
LAST-MODIFIED:20191223T010649Z
UID:5527-1577404800-1577491199@gizmobrewworks.com
SUMMARY:Food Truck: CornerBoys BBQ
DESCRIPTION:
URL:https://gizmobrewworks.com/event/food-truck-cornerboys-bbq-3/
CATEGORIES:Food Truck
END:VEVENT
END:VCALENDAR