BEGIN:VCALENDAR
VERSION:2.0
PRODID:-//Gizmo Brew Works - ECPv4.9.14//NONSGML v1.0//EN
CALSCALE:GREGORIAN
METHOD:PUBLISH
X-WR-CALNAME:Gizmo Brew Works
X-ORIGINAL-URL:https://gizmobrewworks.com
X-WR-CALDESC:Events for Gizmo Brew Works
BEGIN:VTIMEZONE
TZID:America/New_York
BEGIN:DAYLIGHT
TZOFFSETFROM:-0500
TZOFFSETTO:-0400
TZNAME:EDT
DTSTART:20200308T070000
END:DAYLIGHT
BEGIN:STANDARD
TZOFFSETFROM:-0400
TZOFFSETTO:-0500
TZNAME:EST
DTSTART:20201101T060000
END:STANDARD
END:VTIMEZONE
BEGIN:VEVENT
DTSTART;VALUE=DATE:20201001
DTEND;VALUE=DATE:20201002
DTSTAMP:20240316T005750
CREATED:20200903T150332Z
LAST-MODIFIED:20201001T220412Z
UID:19357-1601510400-1601596799@gizmobrewworks.com
SUMMARY:Food Truck: L'Arepa 5pm
DESCRIPTION:Confirmed \n
URL:https://gizmobrewworks.com/event/food-truck-larepa-6/
CATEGORIES:Food Truck
END:VEVENT
END:VCALENDAR