BEGIN:VCALENDAR
VERSION:2.0
PRODID:-//Gizmo Brew Works - ECPv4.9.14//NONSGML v1.0//EN
CALSCALE:GREGORIAN
METHOD:PUBLISH
X-WR-CALNAME:Gizmo Brew Works
X-ORIGINAL-URL:https://gizmobrewworks.com
X-WR-CALDESC:Events for Gizmo Brew Works
BEGIN:VTIMEZONE
TZID:America/New_York
BEGIN:DAYLIGHT
TZOFFSETFROM:-0500
TZOFFSETTO:-0400
TZNAME:EDT
DTSTART:20200308T070000
END:DAYLIGHT
BEGIN:STANDARD
TZOFFSETFROM:-0400
TZOFFSETTO:-0500
TZNAME:EST
DTSTART:20201101T060000
END:STANDARD
END:VTIMEZONE
BEGIN:VEVENT
DTSTART;VALUE=DATE:20200417
DTEND;VALUE=DATE:20200418
DTSTAMP:20240316T000428
CREATED:20200118T030701Z
LAST-MODIFIED:20200417T140447Z
UID:6599-1587081600-1587167999@gizmobrewworks.com
SUMMARY:Food Truck: Soul Fresh Spring Rolls
DESCRIPTION:
URL:https://gizmobrewworks.com/event/food-truck-soul-fresh-spring-rolls-2/
CATEGORIES:Food Truck
END:VEVENT
END:VCALENDAR