BEGIN:VCALENDAR
VERSION:2.0
PRODID:-//Gizmo Brew Works - ECPv4.9.14//NONSGML v1.0//EN
CALSCALE:GREGORIAN
METHOD:PUBLISH
X-WR-CALNAME:Gizmo Brew Works
X-ORIGINAL-URL:https://gizmobrewworks.com
X-WR-CALDESC:Events for Gizmo Brew Works
BEGIN:VTIMEZONE
TZID:America/New_York
BEGIN:DAYLIGHT
TZOFFSETFROM:-0500
TZOFFSETTO:-0400
TZNAME:EDT
DTSTART:20190310T070000
END:DAYLIGHT
BEGIN:STANDARD
TZOFFSETFROM:-0400
TZOFFSETTO:-0500
TZNAME:EST
DTSTART:20191103T060000
END:STANDARD
END:VTIMEZONE
BEGIN:VEVENT
DTSTART;VALUE=DATE:20191106
DTEND;VALUE=DATE:20191107
DTSTAMP:20240316T005158
CREATED:20191105T182454Z
LAST-MODIFIED:20191106T184153Z
UID:6100-1572998400-1573084799@gizmobrewworks.com
SUMMARY:Food Truck: Tacos Mama Chava
DESCRIPTION:Confirmed 11/3 \n
URL:https://gizmobrewworks.com/event/food-truck-tacos-mama-chava/
CATEGORIES:Food Truck
END:VEVENT
END:VCALENDAR