BEGIN:VCALENDAR
VERSION:2.0
PRODID:-//Gizmo Brew Works - ECPv4.9.14//NONSGML v1.0//EN
CALSCALE:GREGORIAN
METHOD:PUBLISH
X-WR-CALNAME:Gizmo Brew Works
X-ORIGINAL-URL:https://gizmobrewworks.com
X-WR-CALDESC:Events for Gizmo Brew Works
BEGIN:VTIMEZONE
TZID:America/New_York
BEGIN:DAYLIGHT
TZOFFSETFROM:-0500
TZOFFSETTO:-0400
TZNAME:EDT
DTSTART:20200308T070000
END:DAYLIGHT
BEGIN:STANDARD
TZOFFSETFROM:-0400
TZOFFSETTO:-0500
TZNAME:EST
DTSTART:20201101T060000
END:STANDARD
END:VTIMEZONE
BEGIN:VEVENT
DTSTART;VALUE=DATE:20200704
DTEND;VALUE=DATE:20200705
DTSTAMP:20240316T001616
CREATED:20200405T134920Z
LAST-MODIFIED:20200703T145502Z
UID:8629-1593820800-1593907199@gizmobrewworks.com
SUMMARY:Food Truck: Tacos Mama Chavas 2-8 pm
DESCRIPTION:Confirmed \n
URL:https://gizmobrewworks.com/event/food-truck-wake-the-truck-up-16/
CATEGORIES:Food Truck
END:VEVENT
END:VCALENDAR