BEGIN:VCALENDAR
VERSION:2.0
PRODID:-//Gizmo Brew Works - ECPv4.9.14//NONSGML v1.0//EN
CALSCALE:GREGORIAN
METHOD:PUBLISH
X-WR-CALNAME:Gizmo Brew Works
X-ORIGINAL-URL:https://gizmobrewworks.com
X-WR-CALDESC:Events for Gizmo Brew Works
BEGIN:VTIMEZONE
TZID:America/New_York
BEGIN:DAYLIGHT
TZOFFSETFROM:-0500
TZOFFSETTO:-0400
TZNAME:EDT
DTSTART:20190310T070000
END:DAYLIGHT
BEGIN:STANDARD
TZOFFSETFROM:-0400
TZOFFSETTO:-0500
TZNAME:EST
DTSTART:20191103T060000
END:STANDARD
END:VTIMEZONE
BEGIN:VEVENT
DTSTART;TZID=America/New_York:20191031T190000
DTEND;TZID=America/New_York:20191031T220000
DTSTAMP:20240316T001826
CREATED:20191009T154826Z
LAST-MODIFIED:20191009T154936Z
UID:5676-1572548400-1572559200@gizmobrewworks.com
SUMMARY:Halloween Costume Bash
DESCRIPTION:Join us Halloween Night! Bring your family and friends out to Gizmo on October 31st\, for our 2019 Halloween Costume BASH! Dress up in your most creative costume and enjoy great beer\, food\, and Live Music by Wes Urbaniak & The Mountain Folk.  \n
URL:https://gizmobrewworks.com/event/halloween-costume-bash/
LOCATION:Raleigh Taproom\, 5907 Triangle Drive\, Raleigh\, NC\, 27617\, United States
CATEGORIES:Special Event
END:VEVENT
END:VCALENDAR