BEGIN:VCALENDAR
VERSION:2.0
PRODID:-//Gizmo Brew Works - ECPv4.9.14//NONSGML v1.0//EN
CALSCALE:GREGORIAN
METHOD:PUBLISH
X-WR-CALNAME:Gizmo Brew Works
X-ORIGINAL-URL:https://gizmobrewworks.com
X-WR-CALDESC:Events for Gizmo Brew Works
BEGIN:VTIMEZONE
TZID:America/New_York
BEGIN:DAYLIGHT
TZOFFSETFROM:-0500
TZOFFSETTO:-0400
TZNAME:EDT
DTSTART:20190310T070000
END:DAYLIGHT
BEGIN:STANDARD
TZOFFSETFROM:-0400
TZOFFSETTO:-0500
TZNAME:EST
DTSTART:20191103T060000
END:STANDARD
END:VTIMEZONE
BEGIN:VEVENT
DTSTART;TZID=America/New_York:20191220T203000
DTEND;TZID=America/New_York:20191220T213000
DTSTAMP:20240316T005315
CREATED:20191218T161451Z
LAST-MODIFIED:20191221T163817Z
UID:6358-1576873800-1576877400@gizmobrewworks.com
SUMMARY:Live Music: Gabriel David
DESCRIPTION:
URL:https://gizmobrewworks.com/event/live-music-gabriel-david/
CATEGORIES:Live Music
END:VEVENT
END:VCALENDAR