BEGIN:VCALENDAR
VERSION:2.0
PRODID:-//Gizmo Brew Works - ECPv4.9.14//NONSGML v1.0//EN
CALSCALE:GREGORIAN
METHOD:PUBLISH
X-WR-CALNAME:Gizmo Brew Works
X-ORIGINAL-URL:https://gizmobrewworks.com
X-WR-CALDESC:Events for Gizmo Brew Works
BEGIN:VTIMEZONE
TZID:America/New_York
BEGIN:DAYLIGHT
TZOFFSETFROM:-0500
TZOFFSETTO:-0400
TZNAME:EDT
DTSTART:20190310T070000
END:DAYLIGHT
BEGIN:STANDARD
TZOFFSETFROM:-0400
TZOFFSETTO:-0500
TZNAME:EST
DTSTART:20191103T060000
END:STANDARD
END:VTIMEZONE
BEGIN:VEVENT
DTSTART;VALUE=DATE:20190111
DTEND;VALUE=DATE:20190112
DTSTAMP:20240316T001303
CREATED:20181023T195033Z
LAST-MODIFIED:20181120T231118Z
UID:2147-1547164800-1547251199@gizmobrewworks.com
SUMMARY:Live Music: Proton Jones
DESCRIPTION:
URL:https://gizmobrewworks.com/event/live-music-proton-jones-4/
CATEGORIES:Live Music
END:VEVENT
END:VCALENDAR