BEGIN:VCALENDAR
VERSION:2.0
PRODID:-//Gizmo Brew Works - ECPv4.9.14//NONSGML v1.0//EN
CALSCALE:GREGORIAN
METHOD:PUBLISH
X-WR-CALNAME:Gizmo Brew Works
X-ORIGINAL-URL:https://gizmobrewworks.com
X-WR-CALDESC:Events for Gizmo Brew Works
BEGIN:VTIMEZONE
TZID:America/New_York
BEGIN:DAYLIGHT
TZOFFSETFROM:-0500
TZOFFSETTO:-0400
TZNAME:EDT
DTSTART:20180311T070000
END:DAYLIGHT
BEGIN:STANDARD
TZOFFSETFROM:-0400
TZOFFSETTO:-0500
TZNAME:EST
DTSTART:20181104T060000
END:STANDARD
END:VTIMEZONE
BEGIN:VEVENT
DTSTART;VALUE=DATE:20180824
DTEND;VALUE=DATE:20180825
DTSTAMP:20240316T005626
CREATED:20180614T231801Z
LAST-MODIFIED:20180618T035712Z
UID:845-1535068800-1535155199@gizmobrewworks.com
SUMMARY:Live Music: Russ James
DESCRIPTION:
URL:https://gizmobrewworks.com/event/live-music-russ-james-2/
LOCATION:5907 Triangle Drive\, Raleigh\, NC\, 27617\, United States
CATEGORIES:Live Music
END:VEVENT
END:VCALENDAR