BEGIN:VCALENDAR
VERSION:2.0
PRODID:-//Gizmo Brew Works - ECPv4.9.14//NONSGML v1.0//EN
CALSCALE:GREGORIAN
METHOD:PUBLISH
X-WR-CALNAME:Gizmo Brew Works
X-ORIGINAL-URL:https://gizmobrewworks.com
X-WR-CALDESC:Events for Gizmo Brew Works
BEGIN:VTIMEZONE
TZID:America/New_York
BEGIN:DAYLIGHT
TZOFFSETFROM:-0500
TZOFFSETTO:-0400
TZNAME:EDT
DTSTART:20180311T070000
END:DAYLIGHT
BEGIN:STANDARD
TZOFFSETFROM:-0400
TZOFFSETTO:-0500
TZNAME:EST
DTSTART:20181104T060000
END:STANDARD
END:VTIMEZONE
BEGIN:VEVENT
DTSTART;VALUE=DATE:20181109
DTEND;VALUE=DATE:20181110
DTSTAMP:20240316T000203
CREATED:20181023T195032Z
LAST-MODIFIED:20181109T145137Z
UID:2139-1541721600-1541807999@gizmobrewworks.com
SUMMARY:Live Music: Russ James
DESCRIPTION:This event has a Google Hangouts video call.\nJoin: https://plus.google.com/hangouts/_/calendar/NzcyNGRkNmlxdmNzcW9zZ2M4dXFwZWZnMzRAZ3JvdXAuY2FsZW5kYXIuZ29vZ2xlLmNvbQ.75ijgcr2c8q3cb9m6gp68b9k70rm6bb160rj8b9occsj8e1lccp36opn6g?hs=121 \n
URL:https://gizmobrewworks.com/event/live-music-russ-james-4/
CATEGORIES:Live Music
END:VEVENT
END:VCALENDAR