BEGIN:VCALENDAR
VERSION:2.0
PRODID:-//Gizmo Brew Works - ECPv4.9.14//NONSGML v1.0//EN
CALSCALE:GREGORIAN
METHOD:PUBLISH
X-WR-CALNAME:Gizmo Brew Works
X-ORIGINAL-URL:https://gizmobrewworks.com
X-WR-CALDESC:Events for Gizmo Brew Works
BEGIN:VTIMEZONE
TZID:America/New_York
BEGIN:DAYLIGHT
TZOFFSETFROM:-0500
TZOFFSETTO:-0400
TZNAME:EDT
DTSTART:20180311T070000
END:DAYLIGHT
BEGIN:STANDARD
TZOFFSETFROM:-0400
TZOFFSETTO:-0500
TZNAME:EST
DTSTART:20181104T060000
END:STANDARD
END:VTIMEZONE
BEGIN:VEVENT
DTSTART;VALUE=DATE:20181228
DTEND;VALUE=DATE:20181229
DTSTAMP:20240316T005241
CREATED:20181023T195033Z
LAST-MODIFIED:20181120T231118Z
UID:2146-1545955200-1546041599@gizmobrewworks.com
SUMMARY:Live Music: Russ James
DESCRIPTION:This event has a Google Hangouts video call.\nJoin: https://plus.google.com/hangouts/_/calendar/NzcyNGRkNmlxdmNzcW9zZ2M4dXFwZWZnMzRAZ3JvdXAuY2FsZW5kYXIuZ29vZ2xlLmNvbQ.c5hmco9o6somabb171hjcb9k6cq3gbb26kp3gb9g6lijcdpgc8pjidr260?hs=121 \n
URL:https://gizmobrewworks.com/event/live-music-russ-james-7/
CATEGORIES:Live Music
END:VEVENT
END:VCALENDAR