BEGIN:VCALENDAR
VERSION:2.0
PRODID:-//Gizmo Brew Works - ECPv4.9.14//NONSGML v1.0//EN
CALSCALE:GREGORIAN
METHOD:PUBLISH
X-WR-CALNAME:Gizmo Brew Works
X-ORIGINAL-URL:https://gizmobrewworks.com
X-WR-CALDESC:Events for Gizmo Brew Works
BEGIN:VTIMEZONE
TZID:America/New_York
BEGIN:DAYLIGHT
TZOFFSETFROM:-0500
TZOFFSETTO:-0400
TZNAME:EDT
DTSTART:20240310T070000
END:DAYLIGHT
BEGIN:STANDARD
TZOFFSETFROM:-0400
TZOFFSETTO:-0500
TZNAME:EST
DTSTART:20241103T060000
END:STANDARD
END:VTIMEZONE
BEGIN:VEVENT
DTSTART;TZID=America/New_York:20240226T160000
DTEND;TZID=America/New_York:20240226T220000
DTSTAMP:20240315T233551
CREATED:20200903T150821Z
LAST-MODIFIED:20200903T150821Z
UID:21977-1708963200-1708984800@gizmobrewworks.com
SUMMARY:$3 Pint Night
DESCRIPTION:
URL:https://gizmobrewworks.com/event/3-pint-night/2024-02-26/
LOCATION:Raleigh Taproom\, 5907 Triangle Drive\, Raleigh\, NC\, 27617\, United States
CATEGORIES:Beer Specials
END:VEVENT
BEGIN:VEVENT
DTSTART;TZID=America/New_York:20240227T160000
DTEND;TZID=America/New_York:20240227T220000
DTSTAMP:20240315T233551
CREATED:20200903T151716Z
LAST-MODIFIED:20200903T151716Z
UID:21979-1709049600-1709071200@gizmobrewworks.com
SUMMARY:$2 OFF 4 & 6 Packs
DESCRIPTION:
URL:https://gizmobrewworks.com/event/2-off-4-6-packs/2024-02-27/
LOCATION:Raleigh Taproom\, 5907 Triangle Drive\, Raleigh\, NC\, 27617\, United States
CATEGORIES:Beer Specials
END:VEVENT
BEGIN:VEVENT
DTSTART;TZID=America/New_York:20240228T160000
DTEND;TZID=America/New_York:20240228T200000
DTSTAMP:20240315T233551
CREATED:20180615T185408Z
LAST-MODIFIED:20180615T185408Z
UID:21980-1709136000-1709150400@gizmobrewworks.com
SUMMARY:Half Price-Bartender's Choice
DESCRIPTION:
URL:https://gizmobrewworks.com/event/3-pints-bartenders-choice/2024-02-28/
LOCATION:Raleigh Taproom\, 5907 Triangle Drive\, Raleigh\, NC\, 27617\, United States
CATEGORIES:Beer Specials
END:VEVENT
BEGIN:VEVENT
DTSTART;TZID=America/New_York:20240304T160000
DTEND;TZID=America/New_York:20240304T220000
DTSTAMP:20240315T233551
CREATED:20200903T150821Z
LAST-MODIFIED:20200903T150821Z
UID:21983-1709568000-1709589600@gizmobrewworks.com
SUMMARY:$3 Pint Night
DESCRIPTION:
URL:https://gizmobrewworks.com/event/3-pint-night/2024-03-04/
LOCATION:Raleigh Taproom\, 5907 Triangle Drive\, Raleigh\, NC\, 27617\, United States
CATEGORIES:Beer Specials
END:VEVENT
BEGIN:VEVENT
DTSTART;TZID=America/New_York:20240305T160000
DTEND;TZID=America/New_York:20240305T220000
DTSTAMP:20240315T233551
CREATED:20200903T151716Z
LAST-MODIFIED:20200903T151716Z
UID:21985-1709654400-1709676000@gizmobrewworks.com
SUMMARY:$2 OFF 4 & 6 Packs
DESCRIPTION:
URL:https://gizmobrewworks.com/event/2-off-4-6-packs/2024-03-05/
LOCATION:Raleigh Taproom\, 5907 Triangle Drive\, Raleigh\, NC\, 27617\, United States
CATEGORIES:Beer Specials
END:VEVENT
BEGIN:VEVENT
DTSTART;TZID=America/New_York:20240306T160000
DTEND;TZID=America/New_York:20240306T200000
DTSTAMP:20240315T233551
CREATED:20180615T185408Z
LAST-MODIFIED:20180615T185408Z
UID:21986-1709740800-1709755200@gizmobrewworks.com
SUMMARY:Half Price-Bartender's Choice
DESCRIPTION:
URL:https://gizmobrewworks.com/event/3-pints-bartenders-choice/2024-03-06/
LOCATION:Raleigh Taproom\, 5907 Triangle Drive\, Raleigh\, NC\, 27617\, United States
CATEGORIES:Beer Specials
END:VEVENT
BEGIN:VEVENT
DTSTART;TZID=America/New_York:20240311T160000
DTEND;TZID=America/New_York:20240311T220000
DTSTAMP:20240315T233551
CREATED:20200903T150821Z
LAST-MODIFIED:20200903T150821Z
UID:21988-1710172800-1710194400@gizmobrewworks.com
SUMMARY:$3 Pint Night
DESCRIPTION:
URL:https://gizmobrewworks.com/event/3-pint-night/2024-03-11/
LOCATION:Raleigh Taproom\, 5907 Triangle Drive\, Raleigh\, NC\, 27617\, United States
CATEGORIES:Beer Specials
END:VEVENT
BEGIN:VEVENT
DTSTART;TZID=America/New_York:20240312T160000
DTEND;TZID=America/New_York:20240312T220000
DTSTAMP:20240315T233551
CREATED:20200903T151716Z
LAST-MODIFIED:20200903T151716Z
UID:21990-1710259200-1710280800@gizmobrewworks.com
SUMMARY:$2 OFF 4 & 6 Packs
DESCRIPTION:
URL:https://gizmobrewworks.com/event/2-off-4-6-packs/2024-03-12/
LOCATION:Raleigh Taproom\, 5907 Triangle Drive\, Raleigh\, NC\, 27617\, United States
CATEGORIES:Beer Specials
END:VEVENT
BEGIN:VEVENT
DTSTART;TZID=America/New_York:20240313T160000
DTEND;TZID=America/New_York:20240313T200000
DTSTAMP:20240315T233551
CREATED:20180615T185408Z
LAST-MODIFIED:20180615T185408Z
UID:22040-1710345600-1710360000@gizmobrewworks.com
SUMMARY:Half Price-Bartender's Choice
DESCRIPTION:
URL:https://gizmobrewworks.com/event/3-pints-bartenders-choice/2024-03-13/
LOCATION:Raleigh Taproom\, 5907 Triangle Drive\, Raleigh\, NC\, 27617\, United States
CATEGORIES:Beer Specials
END:VEVENT
BEGIN:VEVENT
DTSTART;TZID=America/New_York:20240318T160000
DTEND;TZID=America/New_York:20240318T220000
DTSTAMP:20240315T233551
CREATED:20200903T150821Z
LAST-MODIFIED:20200903T150821Z
UID:22055-1710777600-1710799200@gizmobrewworks.com
SUMMARY:$3 Pint Night
DESCRIPTION:
URL:https://gizmobrewworks.com/event/3-pint-night/2024-03-18/
LOCATION:Raleigh Taproom\, 5907 Triangle Drive\, Raleigh\, NC\, 27617\, United States
CATEGORIES:Beer Specials
END:VEVENT
BEGIN:VEVENT
DTSTART;TZID=America/New_York:20240319T160000
DTEND;TZID=America/New_York:20240319T220000
DTSTAMP:20240315T233551
CREATED:20200903T151716Z
LAST-MODIFIED:20200903T151716Z
UID:22057-1710864000-1710885600@gizmobrewworks.com
SUMMARY:$2 OFF 4 & 6 Packs
DESCRIPTION:
URL:https://gizmobrewworks.com/event/2-off-4-6-packs/2024-03-19/
LOCATION:Raleigh Taproom\, 5907 Triangle Drive\, Raleigh\, NC\, 27617\, United States
CATEGORIES:Beer Specials
END:VEVENT
BEGIN:VEVENT
DTSTART;TZID=America/New_York:20240320T160000
DTEND;TZID=America/New_York:20240320T200000
DTSTAMP:20240315T233551
CREATED:20180615T185408Z
LAST-MODIFIED:20180615T185408Z
UID:22058-1710950400-1710964800@gizmobrewworks.com
SUMMARY:Half Price-Bartender's Choice
DESCRIPTION:
URL:https://gizmobrewworks.com/event/3-pints-bartenders-choice/2024-03-20/
LOCATION:Raleigh Taproom\, 5907 Triangle Drive\, Raleigh\, NC\, 27617\, United States
CATEGORIES:Beer Specials
END:VEVENT
BEGIN:VEVENT
DTSTART;TZID=America/New_York:20240325T160000
DTEND;TZID=America/New_York:20240325T220000
DTSTAMP:20240315T233551
CREATED:20200903T150821Z
LAST-MODIFIED:20200903T150821Z
UID:22062-1711382400-1711404000@gizmobrewworks.com
SUMMARY:$3 Pint Night
DESCRIPTION:
URL:https://gizmobrewworks.com/event/3-pint-night/2024-03-25/
LOCATION:Raleigh Taproom\, 5907 Triangle Drive\, Raleigh\, NC\, 27617\, United States
CATEGORIES:Beer Specials
END:VEVENT
BEGIN:VEVENT
DTSTART;TZID=America/New_York:20240326T160000
DTEND;TZID=America/New_York:20240326T220000
DTSTAMP:20240315T233551
CREATED:20200903T151716Z
LAST-MODIFIED:20200903T151716Z
UID:22064-1711468800-1711490400@gizmobrewworks.com
SUMMARY:$2 OFF 4 & 6 Packs
DESCRIPTION:
URL:https://gizmobrewworks.com/event/2-off-4-6-packs/2024-03-26/
LOCATION:Raleigh Taproom\, 5907 Triangle Drive\, Raleigh\, NC\, 27617\, United States
CATEGORIES:Beer Specials
END:VEVENT
BEGIN:VEVENT
DTSTART;TZID=America/New_York:20240327T160000
DTEND;TZID=America/New_York:20240327T200000
DTSTAMP:20240315T233551
CREATED:20180615T185408Z
LAST-MODIFIED:20180615T185408Z
UID:22065-1711555200-1711569600@gizmobrewworks.com
SUMMARY:Half Price-Bartender's Choice
DESCRIPTION:
URL:https://gizmobrewworks.com/event/3-pints-bartenders-choice/2024-03-27/
LOCATION:Raleigh Taproom\, 5907 Triangle Drive\, Raleigh\, NC\, 27617\, United States
CATEGORIES:Beer Specials
END:VEVENT
BEGIN:VEVENT
DTSTART;TZID=America/New_York:20240401T160000
DTEND;TZID=America/New_York:20240401T220000
DTSTAMP:20240315T233551
CREATED:20200903T150821Z
LAST-MODIFIED:20200903T150821Z
UID:22092-1711987200-1712008800@gizmobrewworks.com
SUMMARY:$3 Pint Night
DESCRIPTION:
URL:https://gizmobrewworks.com/event/3-pint-night/2024-04-01/
LOCATION:Raleigh Taproom\, 5907 Triangle Drive\, Raleigh\, NC\, 27617\, United States
CATEGORIES:Beer Specials
END:VEVENT
BEGIN:VEVENT
DTSTART;TZID=America/New_York:20240402T160000
DTEND;TZID=America/New_York:20240402T220000
DTSTAMP:20240315T233551
CREATED:20200903T151716Z
LAST-MODIFIED:20200903T151716Z
UID:22094-1712073600-1712095200@gizmobrewworks.com
SUMMARY:$2 OFF 4 & 6 Packs
DESCRIPTION:
URL:https://gizmobrewworks.com/event/2-off-4-6-packs/2024-04-02/
LOCATION:Raleigh Taproom\, 5907 Triangle Drive\, Raleigh\, NC\, 27617\, United States
CATEGORIES:Beer Specials
END:VEVENT
BEGIN:VEVENT
DTSTART;TZID=America/New_York:20240403T160000
DTEND;TZID=America/New_York:20240403T200000
DTSTAMP:20240315T233551
CREATED:20180615T185408Z
LAST-MODIFIED:20180615T185408Z
UID:22095-1712160000-1712174400@gizmobrewworks.com
SUMMARY:Half Price-Bartender's Choice
DESCRIPTION:
URL:https://gizmobrewworks.com/event/3-pints-bartenders-choice/2024-04-03/
LOCATION:Raleigh Taproom\, 5907 Triangle Drive\, Raleigh\, NC\, 27617\, United States
CATEGORIES:Beer Specials
END:VEVENT
END:VCALENDAR